Package: terraTCGAdata Version: 1.15.1 Command: /Library/Frameworks/R.framework/Resources/bin/R CMD build --keep-empty-dirs --no-resave-data terraTCGAdata StartedAt: 2025-11-12 17:22:09 -0500 (Wed, 12 Nov 2025) EndedAt: 2025-11-12 17:22:25 -0500 (Wed, 12 Nov 2025) EllapsedTime: 15.1 seconds RetCode: 1 Status: ERROR PackageFile: None PackageFileSize: NA