Package: ternarynet Version: 1.55.0 Command: /home/biocbuild/bbs-3.23-bioc/R/bin/R CMD INSTALL ternarynet StartedAt: 2025-11-13 15:05:25 -0500 (Thu, 13 Nov 2025) EndedAt: 2025-11-13 15:05:48 -0500 (Thu, 13 Nov 2025) EllapsedTime: 22.8 seconds RetCode: 0 Status: OK