Package: ternarynet Version: 1.55.0 Command: /home/biocbuild/bbs-3.23-bioc/R/bin/R CMD build --keep-empty-dirs --no-resave-data ternarynet StartedAt: 2025-11-11 20:34:01 -0500 (Tue, 11 Nov 2025) EndedAt: 2025-11-11 20:34:13 -0500 (Tue, 11 Nov 2025) EllapsedTime: 12.0 seconds RetCode: 0 Status: OK PackageFile: ternarynet_1.55.0.tar.gz PackageFileSize: 269.3 KiB