Package: ternarynet Version: 1.55.0 Command: /Library/Frameworks/R.framework/Resources/bin/R CMD INSTALL ternarynet StartedAt: 2025-11-12 15:17:51 -0500 (Wed, 12 Nov 2025) EndedAt: 2025-11-12 15:17:57 -0500 (Wed, 12 Nov 2025) EllapsedTime: 5.6 seconds RetCode: 0 Status: OK