Package: ternarynet Version: 1.55.0 Command: /Library/Frameworks/R.framework/Resources/bin/R CMD build --keep-empty-dirs --no-resave-data ternarynet StartedAt: 2025-11-12 17:22:06 -0500 (Wed, 12 Nov 2025) EndedAt: 2025-11-12 17:22:13 -0500 (Wed, 12 Nov 2025) EllapsedTime: 7.1 seconds RetCode: 0 Status: OK PackageFile: ternarynet_1.55.0.tar.gz PackageFileSize: 268 KiB