Package: ternarynet Version: 1.55.0 Command: rm -rf ternarynet.buildbin-libdir && mkdir ternarynet.buildbin-libdir && /Users/biocbuild/BBS/utils/build-universal.sh ternarynet_1.55.0.tar.gz /Library/Frameworks/R.framework/Resources/bin/R ternarynet.buildbin-libdir StartedAt: 2025-11-12 21:12:33 -0500 (Wed, 12 Nov 2025) EndedAt: 2025-11-12 21:12:39 -0500 (Wed, 12 Nov 2025) EllapsedTime: 6.1 seconds RetCode: 0 Status: OK PackageFile: ternarynet_1.55.0.tgz PackageFileSize: 565.4 KiB