Package: tanggle Version: 1.17.0 Command: /home/biocbuild/bbs-3.23-bioc/R/bin/R CMD INSTALL tanggle StartedAt: 2025-11-13 15:10:36 -0500 (Thu, 13 Nov 2025) EndedAt: 2025-11-13 15:10:43 -0500 (Thu, 13 Nov 2025) EllapsedTime: 6.9 seconds RetCode: 0 Status: OK