Package: tanggle Version: 1.17.0 Command: /Library/Frameworks/R.framework/Resources/bin/R CMD build --keep-empty-dirs --no-resave-data tanggle StartedAt: 2025-11-12 17:21:17 -0500 (Wed, 12 Nov 2025) EndedAt: 2025-11-12 17:21:28 -0500 (Wed, 12 Nov 2025) EllapsedTime: 11.1 seconds RetCode: 0 Status: OK PackageFile: tanggle_1.17.0.tar.gz PackageFileSize: 1.947 MiB