Package: tanggle Version: 1.17.0 Command: rm -rf tanggle.buildbin-libdir && mkdir tanggle.buildbin-libdir && /Users/biocbuild/BBS/utils/build-universal.sh tanggle_1.17.0.tar.gz /Library/Frameworks/R.framework/Resources/bin/R tanggle.buildbin-libdir StartedAt: 2025-11-12 21:12:23 -0500 (Wed, 12 Nov 2025) EndedAt: 2025-11-12 21:12:28 -0500 (Wed, 12 Nov 2025) EllapsedTime: 4.1 seconds RetCode: 0 Status: OK PackageFile: tanggle_1.17.0.tgz PackageFileSize: 1.967 MiB