Package: tRNAscanImport Version: 1.31.0 Command: /Library/Frameworks/R.framework/Resources/bin/R CMD INSTALL tRNAscanImport StartedAt: 2025-11-13 15:21:13 -0500 (Thu, 13 Nov 2025) EndedAt: 2025-11-13 15:21:13 -0500 (Thu, 13 Nov 2025) EllapsedTime: 0.3 seconds RetCode: 1 Status: ERROR