Package: tRNAscanImport Version: 1.31.0 Command: /Library/Frameworks/R.framework/Resources/bin/R CMD build --keep-empty-dirs --no-resave-data tRNAscanImport StartedAt: 2025-11-13 18:03:09 -0500 (Thu, 13 Nov 2025) EndedAt: 2025-11-13 18:03:10 -0500 (Thu, 13 Nov 2025) EllapsedTime: 1.0 seconds RetCode: 1 Status: ERROR PackageFile: None PackageFileSize: NA