############################################################################## ############################################################################## ### ### Running command: ### ### /Library/Frameworks/R.framework/Resources/bin/R CMD build --keep-empty-dirs --no-resave-data tRNAscanImport ### ############################################################################## ############################################################################## * checking for file ‘tRNAscanImport/DESCRIPTION’ ... OK * preparing ‘tRNAscanImport’: * checking DESCRIPTION meta-information ... OK * installing the package (it is needed to build vignettes) ----------------------------------- ERROR: dependency ‘tRNA’ is not available for package ‘tRNAscanImport’ Perhaps try a variation of: install.packages('tRNA') * removing ‘/private/var/folders/r0/l4fjk6cj5xj0j3brt4bplpl40000gt/T/RtmpLdYcvo/Rinst79fe1efec2c6/tRNAscanImport’ ----------------------------------- ERROR: package installation failed