Package: tRNAdbImport Version: 1.29.0 Command: /home/biocbuild/bbs-3.23-bioc/R/bin/R CMD INSTALL tRNAdbImport StartedAt: 2025-11-13 15:38:56 -0500 (Thu, 13 Nov 2025) EndedAt: 2025-11-13 15:39:10 -0500 (Thu, 13 Nov 2025) EllapsedTime: 14.8 seconds RetCode: 0 Status: OK