Package: tRNAdbImport Version: 1.29.0 Command: /home/biocbuild/bbs-3.23-bioc/R/bin/R CMD build --keep-empty-dirs --no-resave-data tRNAdbImport StartedAt: 2025-11-13 20:36:37 -0500 (Thu, 13 Nov 2025) EndedAt: 2025-11-13 20:37:08 -0500 (Thu, 13 Nov 2025) EllapsedTime: 31.0 seconds RetCode: 0 Status: OK PackageFile: tRNAdbImport_1.29.0.tar.gz PackageFileSize: 321.9 KiB