############################################################################## ############################################################################## ### ### Running command: ### ### /Library/Frameworks/R.framework/Resources/bin/R CMD build --keep-empty-dirs --no-resave-data tRNAdbImport ### ############################################################################## ############################################################################## * checking for file ‘tRNAdbImport/DESCRIPTION’ ... OK * preparing ‘tRNAdbImport’: * checking DESCRIPTION meta-information ... OK * installing the package (it is needed to build vignettes) ----------------------------------- ERROR: dependencies ‘Modstrings’, ‘tRNA’ are not available for package ‘tRNAdbImport’ Perhaps try a variation of: install.packages(c('Modstrings', 'tRNA')) * removing ‘/private/var/folders/r0/l4fjk6cj5xj0j3brt4bplpl40000gt/T/RtmpVJor8w/Rinst794f55cc1fc3/tRNAdbImport’ ----------------------------------- ERROR: package installation failed