Package: tRNAdbImport Version: 1.29.0 Maintainer: Felix G.M. Ernst MaintainerEmail: felix.gm.ernst at outlook.com git_url: https://git.bioconductor.org/packages/tRNAdbImport git_branch: devel git_last_commit: 4c8ebfd git_last_commit_date: 2025-10-29 10:48:38 -0500 (Wed, 29 Oct 2025)