Package: tRNA Version: 1.29.0 Command: /Library/Frameworks/R.framework/Resources/bin/R CMD INSTALL tRNA StartedAt: 2025-11-13 15:21:11 -0500 (Thu, 13 Nov 2025) EndedAt: 2025-11-13 15:21:13 -0500 (Thu, 13 Nov 2025) EllapsedTime: 1.7 seconds RetCode: 1 Status: ERROR