Package: tRNA Version: 1.29.0 Maintainer: Felix GM Ernst MaintainerEmail: felix.gm.ernst at outlook.com git_url: https://git.bioconductor.org/packages/tRNA git_branch: devel git_last_commit: c4fadc0 git_last_commit_date: 2025-10-29 10:48:20 -0500 (Wed, 29 Oct 2025)