Package: systemPipeTools Version: 1.19.0 Command: /home/biocbuild/bbs-3.23-bioc/R/bin/R CMD check --install=check:systemPipeTools.install-out.txt --library=/home/biocbuild/bbs-3.23-bioc/R/site-library --timings systemPipeTools_1.19.0.tar.gz StartedAt: 2025-11-15 04:47:56 -0500 (Sat, 15 Nov 2025) EndedAt: 2025-11-15 04:52:48 -0500 (Sat, 15 Nov 2025) EllapsedTime: 291.5 seconds RetCode: 0 Status: WARNINGS CheckDir: systemPipeTools.Rcheck Warnings: 1