Package: systemPipeTools Version: 1.19.0 Command: /home/biocbuild/bbs-3.23-bioc/R/bin/R CMD build --keep-empty-dirs --no-resave-data systemPipeTools StartedAt: 2025-11-13 20:26:14 -0500 (Thu, 13 Nov 2025) EndedAt: 2025-11-13 20:27:14 -0500 (Thu, 13 Nov 2025) EllapsedTime: 60.0 seconds RetCode: 0 Status: OK PackageFile: systemPipeTools_1.19.0.tar.gz PackageFileSize: 991.9 KiB