Package: systemPipeTools Version: 1.19.0 Command: /Library/Frameworks/R.framework/Resources/bin/R CMD check --install=check:systemPipeTools.install-out.txt --library=/Library/Frameworks/R.framework/Resources/library --no-vignettes --timings systemPipeTools_1.19.0.tar.gz StartedAt: 2025-11-12 20:34:23 -0500 (Wed, 12 Nov 2025) EndedAt: 2025-11-12 20:36:13 -0500 (Wed, 12 Nov 2025) EllapsedTime: 110.5 seconds RetCode: 0 Status: WARNINGS CheckDir: systemPipeTools.Rcheck Warnings: 1