Package: systemPipeTools Version: 1.19.0 Command: /Library/Frameworks/R.framework/Resources/bin/R CMD build --keep-empty-dirs --no-resave-data systemPipeTools StartedAt: 2025-11-12 17:21:04 -0500 (Wed, 12 Nov 2025) EndedAt: 2025-11-12 17:21:31 -0500 (Wed, 12 Nov 2025) EllapsedTime: 27.3 seconds RetCode: 0 Status: OK PackageFile: systemPipeTools_1.19.0.tar.gz PackageFileSize: 998.9 KiB