Package: systemPipeTools Version: 1.19.0 Command: rm -rf systemPipeTools.buildbin-libdir && mkdir systemPipeTools.buildbin-libdir && /Users/biocbuild/BBS/utils/build-universal.sh systemPipeTools_1.19.0.tar.gz /Library/Frameworks/R.framework/Resources/bin/R systemPipeTools.buildbin-libdir StartedAt: 2025-11-12 21:12:21 -0500 (Wed, 12 Nov 2025) EndedAt: 2025-11-12 21:12:34 -0500 (Wed, 12 Nov 2025) EllapsedTime: 12.4 seconds RetCode: 0 Status: OK PackageFile: systemPipeTools_1.19.0.tgz PackageFileSize: 1.033 MiB