Package: systemPipeShiny Version: 1.21.0 Command: /home/biocbuild/bbs-3.23-bioc/R/bin/R CMD check --install=check:systemPipeShiny.install-out.txt --library=/home/biocbuild/bbs-3.23-bioc/R/site-library --timings systemPipeShiny_1.21.0.tar.gz StartedAt: 2025-11-15 04:47:55 -0500 (Sat, 15 Nov 2025) EndedAt: 2025-11-15 04:49:42 -0500 (Sat, 15 Nov 2025) EllapsedTime: 107.2 seconds RetCode: 0 Status: OK CheckDir: systemPipeShiny.Rcheck Warnings: 0