Package: systemPipeShiny Version: 1.21.0 Command: /Library/Frameworks/R.framework/Resources/bin/R CMD check --install=check:systemPipeShiny.install-out.txt --library=/Library/Frameworks/R.framework/Resources/library --no-vignettes --timings systemPipeShiny_1.21.0.tar.gz StartedAt: 2025-11-21 22:52:39 -0500 (Fri, 21 Nov 2025) EndedAt: 2025-11-21 22:53:29 -0500 (Fri, 21 Nov 2025) EllapsedTime: 49.7 seconds RetCode: 0 Status: OK CheckDir: systemPipeShiny.Rcheck Warnings: 0