Package: systemPipeR Version: 2.17.0 Command: /home/biocbuild/bbs-3.23-bioc/R/bin/R CMD INSTALL systemPipeR StartedAt: 2025-11-14 15:52:03 -0500 (Fri, 14 Nov 2025) EndedAt: 2025-11-14 15:52:49 -0500 (Fri, 14 Nov 2025) EllapsedTime: 46.2 seconds RetCode: 0 Status: OK