Package: systemPipeR Version: 2.17.0 Command: /Library/Frameworks/R.framework/Resources/bin/R CMD INSTALL systemPipeR StartedAt: 2025-11-13 15:29:00 -0500 (Thu, 13 Nov 2025) EndedAt: 2025-11-13 15:29:19 -0500 (Thu, 13 Nov 2025) EllapsedTime: 18.5 seconds RetCode: 0 Status: OK