Package: systemPipeR Version: 2.17.0 Command: /Library/Frameworks/R.framework/Resources/bin/R CMD check --install=check:systemPipeR.install-out.txt --library=/Library/Frameworks/R.framework/Resources/library --no-vignettes --timings systemPipeR_2.17.0.tar.gz StartedAt: 2025-11-23 22:56:08 -0500 (Sun, 23 Nov 2025) EndedAt: 2025-11-23 22:58:44 -0500 (Sun, 23 Nov 2025) EllapsedTime: 156.0 seconds RetCode: 0 Status: OK CheckDir: systemPipeR.Rcheck Warnings: 0