Package: systemPipeR Version: 2.17.0 Command: /Library/Frameworks/R.framework/Resources/bin/R CMD build --keep-empty-dirs --no-resave-data systemPipeR StartedAt: 2025-11-13 17:55:45 -0500 (Thu, 13 Nov 2025) EndedAt: 2025-11-13 17:56:32 -0500 (Thu, 13 Nov 2025) EllapsedTime: 46.5 seconds RetCode: 0 Status: OK PackageFile: systemPipeR_2.17.0.tar.gz PackageFileSize: 6.498 MiB