Package: syntenet Version: 1.13.0 Command: /home/biocbuild/bbs-3.23-bioc/R/bin/R CMD build --keep-empty-dirs --no-resave-data syntenet StartedAt: 2025-11-13 20:25:59 -0500 (Thu, 13 Nov 2025) EndedAt: 2025-11-13 20:27:18 -0500 (Thu, 13 Nov 2025) EllapsedTime: 79.1 seconds RetCode: 0 Status: OK PackageFile: syntenet_1.13.0.tar.gz PackageFileSize: 3.035 MiB