Package: syntenet Version: 1.13.0 Command: /Library/Frameworks/R.framework/Resources/bin/R CMD INSTALL syntenet StartedAt: 2025-11-12 15:24:03 -0500 (Wed, 12 Nov 2025) EndedAt: 2025-11-12 15:24:17 -0500 (Wed, 12 Nov 2025) EllapsedTime: 13.5 seconds RetCode: 0 Status: OK