Package: syntenet Version: 1.13.0 Command: /Library/Frameworks/R.framework/Resources/bin/R CMD build --keep-empty-dirs --no-resave-data syntenet StartedAt: 2025-11-12 17:20:59 -0500 (Wed, 12 Nov 2025) EndedAt: 2025-11-12 17:21:34 -0500 (Wed, 12 Nov 2025) EllapsedTime: 34.4 seconds RetCode: 0 Status: OK PackageFile: syntenet_1.13.0.tar.gz PackageFileSize: 3.112 MiB