Package: syntenet Version: 1.13.0 Command: rm -rf syntenet.buildbin-libdir && mkdir syntenet.buildbin-libdir && /Users/biocbuild/BBS/utils/build-universal.sh syntenet_1.13.0.tar.gz /Library/Frameworks/R.framework/Resources/bin/R syntenet.buildbin-libdir StartedAt: 2025-11-13 23:59:12 -0500 (Thu, 13 Nov 2025) EndedAt: 2025-11-13 23:59:28 -0500 (Thu, 13 Nov 2025) EllapsedTime: 16.5 seconds RetCode: 0 Status: OK PackageFile: syntenet_1.13.0.tgz PackageFileSize: 3.427 MiB