Package: syntenet Version: 1.13.0 Maintainer: Fabrício Almeida-Silva MaintainerEmail: fabricio_almeidasilva at hotmail.com git_url: https://git.bioconductor.org/packages/syntenet git_branch: devel git_last_commit: da094a2 git_last_commit_date: 2025-10-29 11:17:23 -0500 (Wed, 29 Oct 2025)