Package: synlet Version: 2.11.0 Command: /Library/Frameworks/R.framework/Resources/bin/R CMD INSTALL synlet StartedAt: 2025-11-13 15:05:43 -0500 (Thu, 13 Nov 2025) EndedAt: 2025-11-13 15:05:48 -0500 (Thu, 13 Nov 2025) EllapsedTime: 4.7 seconds RetCode: 0 Status: OK