Package: synlet Version: 2.11.0 Command: /Library/Frameworks/R.framework/Resources/bin/R CMD build --keep-empty-dirs --no-resave-data synlet StartedAt: 2025-11-12 17:20:50 -0500 (Wed, 12 Nov 2025) EndedAt: 2025-11-12 17:21:03 -0500 (Wed, 12 Nov 2025) EllapsedTime: 12.1 seconds RetCode: 0 Status: OK PackageFile: synlet_2.11.0.tar.gz PackageFileSize: 1.408 MiB