Package: synapsis Version: 1.17.0 Command: /Library/Frameworks/R.framework/Resources/bin/R CMD INSTALL synapsis StartedAt: 2025-11-12 15:22:35 -0500 (Wed, 12 Nov 2025) EndedAt: 2025-11-12 15:22:37 -0500 (Wed, 12 Nov 2025) EllapsedTime: 2.0 seconds RetCode: 0 Status: OK