Package: synapsis Version: 1.17.0 Command: /Library/Frameworks/R.framework/Resources/bin/R CMD build --keep-empty-dirs --no-resave-data synapsis StartedAt: 2025-11-12 17:20:45 -0500 (Wed, 12 Nov 2025) EndedAt: 2025-11-12 17:20:59 -0500 (Wed, 12 Nov 2025) EllapsedTime: 14.2 seconds RetCode: 0 Status: OK PackageFile: synapsis_1.17.0.tar.gz PackageFileSize: 3.547 MiB