Package: synapsis Version: 1.17.0 Command: rm -rf synapsis.buildbin-libdir && mkdir synapsis.buildbin-libdir && /Users/biocbuild/BBS/utils/build-universal.sh synapsis_1.17.0.tar.gz /Library/Frameworks/R.framework/Resources/bin/R synapsis.buildbin-libdir StartedAt: 2025-11-13 23:59:07 -0500 (Thu, 13 Nov 2025) EndedAt: 2025-11-13 23:59:11 -0500 (Thu, 13 Nov 2025) EllapsedTime: 4.1 seconds RetCode: 0 Status: OK PackageFile: synapsis_1.17.0.tgz PackageFileSize: 3.646 MiB