Package: synapsis Version: 1.17.0 Maintainer: Lucy McNeill MaintainerEmail: luc.mcneill at gmail.com git_url: https://git.bioconductor.org/packages/synapsis git_branch: devel git_last_commit: cc1375e git_last_commit_date: 2025-10-29 11:13:22 -0500 (Wed, 29 Oct 2025)