Package: switchde Version: 1.37.0 Command: /home/biocbuild/bbs-3.23-bioc/R/bin/R CMD INSTALL switchde StartedAt: 2025-11-14 15:33:01 -0500 (Fri, 14 Nov 2025) EndedAt: 2025-11-14 15:33:26 -0500 (Fri, 14 Nov 2025) EllapsedTime: 25.2 seconds RetCode: 0 Status: OK