Package: switchde Version: 1.37.0 Command: /Library/Frameworks/R.framework/Resources/bin/R CMD build --keep-empty-dirs --no-resave-data switchde StartedAt: 2025-11-13 17:55:17 -0500 (Thu, 13 Nov 2025) EndedAt: 2025-11-13 17:55:36 -0500 (Thu, 13 Nov 2025) EllapsedTime: 19.2 seconds RetCode: 0 Status: OK PackageFile: switchde_1.37.0.tar.gz PackageFileSize: 1.032 MiB