Package: switchde Version: 1.37.0 Command: rm -rf switchde.buildbin-libdir && mkdir switchde.buildbin-libdir && /Users/biocbuild/BBS/utils/build-universal.sh switchde_1.37.0.tar.gz /Library/Frameworks/R.framework/Resources/bin/R switchde.buildbin-libdir StartedAt: 2025-11-13 23:59:07 -0500 (Thu, 13 Nov 2025) EndedAt: 2025-11-13 23:59:20 -0500 (Thu, 13 Nov 2025) EllapsedTime: 13.3 seconds RetCode: 0 Status: OK PackageFile: switchde_1.37.0.tgz PackageFileSize: 1.075 MiB