Package: switchde Version: 1.37.0 Maintainer: Kieran Campbell MaintainerEmail: kieranrcampbell at gmail.com git_url: https://git.bioconductor.org/packages/switchde git_branch: devel git_last_commit: 5b6f873 git_last_commit_date: 2025-10-29 10:33:47 -0500 (Wed, 29 Oct 2025)