Package: switchBox Version: 1.47.0 Command: /home/biocbuild/bbs-3.23-bioc/R/bin/R CMD INSTALL switchBox StartedAt: 2025-11-11 15:07:47 -0500 (Tue, 11 Nov 2025) EndedAt: 2025-11-11 15:08:00 -0500 (Tue, 11 Nov 2025) EllapsedTime: 12.4 seconds RetCode: 0 Status: OK