Package: switchBox Version: 1.47.0 Command: /home/biocbuild/bbs-3.23-bioc/R/bin/R CMD check --install=check:switchBox.install-out.txt --library=/home/biocbuild/bbs-3.23-bioc/R/site-library --timings switchBox_1.47.0.tar.gz StartedAt: 2025-11-15 04:46:00 -0500 (Sat, 15 Nov 2025) EndedAt: 2025-11-15 04:46:35 -0500 (Sat, 15 Nov 2025) EllapsedTime: 35.0 seconds RetCode: 0 Status: WARNINGS CheckDir: switchBox.Rcheck Warnings: 3