Package: switchBox Version: 1.47.0 Command: /home/biocbuild/bbs-3.23-bioc/R/bin/R CMD build --keep-empty-dirs --no-resave-data switchBox StartedAt: 2025-11-11 20:30:21 -0500 (Tue, 11 Nov 2025) EndedAt: 2025-11-11 20:30:31 -0500 (Tue, 11 Nov 2025) EllapsedTime: 10.0 seconds RetCode: 0 Status: OK PackageFile: switchBox_1.47.0.tar.gz PackageFileSize: 471.5 KiB