Package: switchBox Version: 1.47.0 Command: /Library/Frameworks/R.framework/Resources/bin/R CMD INSTALL switchBox StartedAt: 2025-11-13 15:02:16 -0500 (Thu, 13 Nov 2025) EndedAt: 2025-11-13 15:02:22 -0500 (Thu, 13 Nov 2025) EllapsedTime: 5.9 seconds RetCode: 0 Status: OK