Package: switchBox Version: 1.47.0 Command: /Library/Frameworks/R.framework/Resources/bin/R CMD check --install=check:switchBox.install-out.txt --library=/Library/Frameworks/R.framework/Resources/library --no-vignettes --timings switchBox_1.47.0.tar.gz StartedAt: 2025-11-14 22:52:50 -0500 (Fri, 14 Nov 2025) EndedAt: 2025-11-14 22:53:13 -0500 (Fri, 14 Nov 2025) EllapsedTime: 23.4 seconds RetCode: 0 Status: WARNINGS CheckDir: switchBox.Rcheck Warnings: 3