Package: swfdr Version: 1.37.0 Command: /Library/Frameworks/R.framework/Resources/bin/R CMD INSTALL swfdr StartedAt: 2025-11-13 15:02:24 -0500 (Thu, 13 Nov 2025) EndedAt: 2025-11-13 15:02:35 -0500 (Thu, 13 Nov 2025) EllapsedTime: 10.9 seconds RetCode: 0 Status: OK